BEGIN:VCALENDAR
VERSION:2.0
PRODID:-//Knox Evangelical Church - Whyte Avenue, Edmonton - ECPv6.15.13//NONSGML v1.0//EN
CALSCALE:GREGORIAN
METHOD:PUBLISH
X-WR-CALNAME:Knox Evangelical Church - Whyte Avenue, Edmonton
X-ORIGINAL-URL:https://knoxefc.ca
X-WR-CALDESC:Events for Knox Evangelical Church - Whyte Avenue, Edmonton
REFRESH-INTERVAL;VALUE=DURATION:PT1H
X-Robots-Tag:noindex
X-PUBLISHED-TTL:PT1H
BEGIN:VTIMEZONE
TZID:America/Edmonton
BEGIN:DAYLIGHT
TZOFFSETFROM:-0700
TZOFFSETTO:-0600
TZNAME:MDT
DTSTART:20250309T090000
END:DAYLIGHT
BEGIN:STANDARD
TZOFFSETFROM:-0600
TZOFFSETTO:-0700
TZNAME:MST
DTSTART:20251102T080000
END:STANDARD
BEGIN:DAYLIGHT
TZOFFSETFROM:-0700
TZOFFSETTO:-0600
TZNAME:MDT
DTSTART:20260308T090000
END:DAYLIGHT
BEGIN:STANDARD
TZOFFSETFROM:-0600
TZOFFSETTO:-0700
TZNAME:MST
DTSTART:20261101T080000
END:STANDARD
BEGIN:DAYLIGHT
TZOFFSETFROM:-0700
TZOFFSETTO:-0600
TZNAME:MDT
DTSTART:20270314T090000
END:DAYLIGHT
BEGIN:STANDARD
TZOFFSETFROM:-0600
TZOFFSETTO:-0700
TZNAME:MST
DTSTART:20271107T080000
END:STANDARD
END:VTIMEZONE
BEGIN:VEVENT
DTSTART;TZID=America/Edmonton:20260426T103000
DTEND;TZID=America/Edmonton:20260426T103000
DTSTAMP:20260425T221250
CREATED:20251014T215411Z
LAST-MODIFIED:20251014T220851Z
UID:10000973-1777199400-1777199400@knoxefc.ca
SUMMARY:Sunday Service
DESCRIPTION:
URL:https://knoxefc.ca/event/sunday-service/2026-04-26/
LOCATION:Knox Evangelical Church\, 8403 104 Street NW\, Edmonton\, Alberta\, T6E 4G1\, Canada
CATEGORIES:WEEKLY
ATTACH;FMTTYPE=image/jpeg:https://knoxefc.ca/wp-content/uploads/2025/10/KnoxHero-1.jpg
END:VEVENT
BEGIN:VEVENT
DTSTART;TZID=America/Edmonton:20260429T100000
DTEND;TZID=America/Edmonton:20260429T113000
DTSTAMP:20260425T221250
CREATED:20260323T211501Z
LAST-MODIFIED:20260323T211501Z
UID:10001868-1777456800-1777462200@knoxefc.ca
SUMMARY:Ladies Bible Study
DESCRIPTION:We’re studying  “Jonah: The Reluctant Prophet” from now into May.  You’re welcome to jump in!
URL:https://knoxefc.ca/event/ladies-morning-study-3/2026-04-29/
LOCATION:Knox Evangelical Church\, 8403 104 Street NW\, Edmonton\, Alberta\, T6E 4G1\, Canada
CATEGORIES:Growth/Seminar
ATTACH;FMTTYPE=image/jpeg:https://knoxefc.ca/wp-content/uploads/2026/03/WEBSITE-images-bible-1.jpg
END:VEVENT
BEGIN:VEVENT
DTSTART;TZID=America/Edmonton:20260502T100000
DTEND;TZID=America/Edmonton:20260502T100000
DTSTAMP:20260425T221250
CREATED:20260110T054032Z
LAST-MODIFIED:20260110T054033Z
UID:10001236-1777716000-1777716000@knoxefc.ca
SUMMARY:Ministry to Internationals
DESCRIPTION:Ministry to Internationals began many years ago at Knox. As part of our current outreach\, internationals play ping pong with both expert and novice players each Saturday. For more info chat with Tavi or Tracy.
URL:https://knoxefc.ca/event/international-ministry-2/2026-05-02/
LOCATION:Knox Evangelical Church\, 8403 104 Street NW\, Edmonton\, Alberta\, T6E 4G1\, Canada
CATEGORIES:Community Engagement
ATTACH;FMTTYPE=image/jpeg:https://knoxefc.ca/wp-content/uploads/2025/08/WEBSITE-IMAGES-horiz-PINGPONG.jpg
END:VEVENT
BEGIN:VEVENT
DTSTART;TZID=America/Edmonton:20260522T160000
DTEND;TZID=America/Edmonton:20260522T190000
DTSTAMP:20260425T221250
CREATED:20260416T191944Z
LAST-MODIFIED:20260416T205456Z
UID:10001925-1779465600-1779476400@knoxefc.ca
SUMMARY:GARAGE & BAKE SALE
DESCRIPTION:Come find great deals\, home made baking and creative treasures at our annual garage sale.  Shop on both Friday\, May 22 (4-7 pm) and Saturday\, May 23rd (12 – 2pm) \nProceeds from our annual garage sales go to the Building Restoration & Renovation Fund. We are investigating what is needed to renovate our 1950’s kitchen.  This year we’re welcoming donations from the community at large. Please bring donations to the church building (north door/parking lot door)  10 am – 2pm  Tuesday\, May 19th and 10 am – 2pm Wednesday\, May 20th. Contact our church office for more information info@knoxefc.ca
URL:https://knoxefc.ca/event/garage-bake-sale/
LOCATION:Knox Evangelical Church\, 8403 104 Street NW\, Edmonton\, Alberta\, T6E 4G1\, Canada
ATTACH;FMTTYPE=image/jpeg:https://knoxefc.ca/wp-content/uploads/2026/04/GARAGE-SALE-WEBSITE-ERROR-2.jpg
END:VEVENT
BEGIN:VEVENT
DTSTART;TZID=America/Edmonton:20260523T100000
DTEND;TZID=America/Edmonton:20260523T140000
DTSTAMP:20260425T221250
CREATED:20260416T204234Z
LAST-MODIFIED:20260416T204234Z
UID:10001926-1779530400-1779544800@knoxefc.ca
SUMMARY:GARAGE & BAKE SALE (DAY 2)
DESCRIPTION:Come find great deals\, home made baking and creative treasures at our annual garage sale.  Shop on both Friday\, May 22 (4-7 pm) and Saturday\, May 23rd (12 – 2pm) \nProceeds from our annual garage sales go to the Building Restoration & Renovation Fund. We are investigating what is needed to renovate our 1950’s kitchen.  This year we’re welcoming donations from the community at large. Please bring donations to the church building (north door/parking lot door)  10 am – 2pm  Tuesday\, May 19th and 10 am – 2pm Wednesday\, May 20th. Contact our church office for more information info@knoxefc.ca
URL:https://knoxefc.ca/event/garage-bake-sale-day-2/
LOCATION:Knox Evangelical Church\, 8403 104 Street NW\, Edmonton\, Alberta\, T6E 4G1\, Canada
END:VEVENT
END:VCALENDAR